BEGIN:VCALENDAR
VERSION:2.0
PRODID:-//NewView Oklahoma - ECPv6.15.20//NONSGML v1.0//EN
CALSCALE:GREGORIAN
METHOD:PUBLISH
X-ORIGINAL-URL:https://nvoklahoma.org
X-WR-CALDESC:Events for NewView Oklahoma
REFRESH-INTERVAL;VALUE=DURATION:PT1H
X-Robots-Tag:noindex
X-PUBLISHED-TTL:PT1H
BEGIN:VTIMEZONE
TZID:America/Chicago
BEGIN:DAYLIGHT
TZOFFSETFROM:-0600
TZOFFSETTO:-0500
TZNAME:CDT
DTSTART:20250309T080000
END:DAYLIGHT
BEGIN:STANDARD
TZOFFSETFROM:-0500
TZOFFSETTO:-0600
TZNAME:CST
DTSTART:20251102T070000
END:STANDARD
BEGIN:DAYLIGHT
TZOFFSETFROM:-0600
TZOFFSETTO:-0500
TZNAME:CDT
DTSTART:20260308T080000
END:DAYLIGHT
BEGIN:STANDARD
TZOFFSETFROM:-0500
TZOFFSETTO:-0600
TZNAME:CST
DTSTART:20261101T070000
END:STANDARD
BEGIN:DAYLIGHT
TZOFFSETFROM:-0600
TZOFFSETTO:-0500
TZNAME:CDT
DTSTART:20270314T080000
END:DAYLIGHT
BEGIN:STANDARD
TZOFFSETFROM:-0500
TZOFFSETTO:-0600
TZNAME:CST
DTSTART:20271107T070000
END:STANDARD
END:VTIMEZONE
BEGIN:VEVENT
DTSTART;TZID=America/Chicago:20260908T150000
DTEND;TZID=America/Chicago:20260908T160000
DTSTAMP:20260425T145641
CREATED:20260422T151849Z
LAST-MODIFIED:20260422T151849Z
UID:3461-1788879600-1788883200@nvoklahoma.org
SUMMARY:Community Support Group - OKC Classen Clinic
DESCRIPTION:Community Support Group – OKC Classen Clinic \n\n\n\nOur Adult Support Group meets on the second Tuesday of each month (September – May) from 3:00 – 4:00 pm. Located in the Community Room of the OKC Center for Low Vision and Blindness on Classen. \n\n\n\nRSVP to Leigh Tomlin at LTomlin@newviewoklahoma.org
URL:https://nvoklahoma.org/event/community-support-group-okc-classen-clinic-10/
ATTACH;FMTTYPE=image/png:https://nvoklahoma.org/wp-content/uploads/2025/08/Adult-Support-Group-768x644-1.png
END:VEVENT
BEGIN:VEVENT
DTSTART;TZID=America/Chicago:20260916T113000
DTEND;TZID=America/Chicago:20260916T130000
DTSTAMP:20260425T145641
CREATED:20260422T153509Z
LAST-MODIFIED:20260422T153509Z
UID:3472-1789558200-1789563600@nvoklahoma.org
SUMMARY:VITAL-OKC
DESCRIPTION:Join us for a hot lunch and support! VITAL gives social support to blind and low vision Veterans and their families. The group provides opportunities to enjoy social events\, share stories\, and be active members of the community. Members also gain access to helpful resources. \n\n\n\nVITAL is free for veterans and their families to attend. \n\n\n\n\n\n\n\nEvery 3rd Wednesday at the Classen Clinic – 4301 N. Classen Blvd.\, OKC\, OK 73118 \n\n\n\nRSVP to Leigh Tomlin at LTomlin@newviewoklahoma.org
URL:https://nvoklahoma.org/event/vital-okc-12/
CATEGORIES:Community Groups
ATTACH;FMTTYPE=image/jpeg:https://nvoklahoma.org/wp-content/uploads/2025/01/36EC076B-1506-4E06-9E9E-0CD88CA0CC4E-1024x683-1.jpeg
END:VEVENT
BEGIN:VEVENT
DTSTART;TZID=America/Chicago:20260924T180000
DTEND;TZID=America/Chicago:20260924T203000
DTSTAMP:20260425T145641
CREATED:20260127T040018Z
LAST-MODIFIED:20260129T214611Z
UID:3222-1790272800-1790281800@nvoklahoma.org
SUMMARY:TULSA BLACKOUT BANQUET
DESCRIPTION:NewView Oklahoma Blackout Banquet\n\n\n\nAGORA EVENT CENTER402 S Peoria Ave #200\, Tulsa\, OK 74120 \n\n\n\nThursday\, SEPTEMBER 24\, 2026 | 6:00 PM\n\n\n\nCocktail Reception | 5:30 PM \n\n\n\n\n\n\n\nFEAST ALL OF YOUR SENSES\, BUT ONE.\n\n\n\nGet ready for an extraordinary dining experience at the Agora Event Center\, where you’ll savor a beautifully curated meal from Chef Amanda Simcoe and Chef Joel Bein of The Meat and Cheese Show with spectacular wine pairings — all while blindfolded\, letting your senses come alive in a whole new way. Let one of NewView Oklahoma’s expert staff members guide you through your meal as you learn about what life is like from the point of view of someone who is blind. \n\n\n\nThis event is designed to raise funds and create awareness for NewView Oklahoma’s mission to empower individuals who are blind or have low vision\, maximizing their opportunities for independence through all stages of life. \n\n\n\n\n\nbecome a sponsor\n\n\n\n\n\n\n\n\n\nMEET OUR CO-CHAIRS\n\n\n\nWe’re honored to introduce our 2026 Co-Chairs\, whose leadership\, generosity\, and commitment to our mission help make this event—and our ongoing work—possible. \n\n\n\nTheir passion for NewView shines\, and their support is a powerful reminder of what’s possible when community champions step forward to make a difference. \n\n\n\n\n\n\n\n\n\n\nShannon O’DohertyCEO\, Commerce Bank – Oklahoma \n\n\n\nShannon O’Doherty has over 30 years of banking experience.  In 2012\, Shannon relocated from Missouri to Oklahoma.  She was named CEO of the Oklahoma Market in 2017. Her responsibilities include overseeing operations for all Oklahoma locations\, pursuing growth opportunities in the region\, managing a team of commercial\, healthcare and energy banking officers\, and developing new loan and deposit opportunities. She is currently a board member for Girl Scouts of Eastern Oklahoma\, Healthy Minds Policy Initiative\, Meals on Wheels\, Oklahoma Center for Non-Profits\, Philbrook Museum of Art\, Tulsa Area United Way\, Tulsa Regional Chamber\, Young President’s Organization\, and YWCA.   \n\n\n\n\n\n\n\n\n\nPhil LakinCEO\, Tulsa Community Foundation \n\n\n\nPhil Lakin\, Jr.\, is the founding and longtime CEO of Tulsa Community Foundation. In its 27 years\, TCF has ranked among the top ten community foundations nationwide\, managing more than $6.4 billion in charitable assets and granting over $4 billion. Lakin is active in the Tulsa community\, serving on the boards of George Kaiser Family Foundation (chairman)\, Tulsa Community College Foundation\, and several other charitable organizations. He is the longest-serving City Councilor for the City of Tulsa\, representing District 8 since 2011. One of about 50 people to climb all 70-plus U.S. peaks over 14\,000 feet\, he has also attended the last 43 Indy 500 races—a three-generation family tradition.
URL:https://nvoklahoma.org/event/tulsa-blackout-banquet/
ATTACH;FMTTYPE=image/jpeg:https://nvoklahoma.org/wp-content/uploads/2025/10/2026_OKC-Blackout-Banquet-Postcard-Graphic-front.jpg
END:VEVENT
END:VCALENDAR