BEGIN:VCALENDAR
VERSION:2.0
PRODID:-//NewView Oklahoma - ECPv6.15.20//NONSGML v1.0//EN
CALSCALE:GREGORIAN
METHOD:PUBLISH
X-WR-CALNAME:NewView Oklahoma
X-ORIGINAL-URL:https://nvoklahoma.org
X-WR-CALDESC:Events for NewView Oklahoma
REFRESH-INTERVAL;VALUE=DURATION:PT1H
X-Robots-Tag:noindex
X-PUBLISHED-TTL:PT1H
BEGIN:VTIMEZONE
TZID:America/Chicago
BEGIN:DAYLIGHT
TZOFFSETFROM:-0600
TZOFFSETTO:-0500
TZNAME:CDT
DTSTART:20250309T080000
END:DAYLIGHT
BEGIN:STANDARD
TZOFFSETFROM:-0500
TZOFFSETTO:-0600
TZNAME:CST
DTSTART:20251102T070000
END:STANDARD
BEGIN:DAYLIGHT
TZOFFSETFROM:-0600
TZOFFSETTO:-0500
TZNAME:CDT
DTSTART:20260308T080000
END:DAYLIGHT
BEGIN:STANDARD
TZOFFSETFROM:-0500
TZOFFSETTO:-0600
TZNAME:CST
DTSTART:20261101T070000
END:STANDARD
BEGIN:DAYLIGHT
TZOFFSETFROM:-0600
TZOFFSETTO:-0500
TZNAME:CDT
DTSTART:20270314T080000
END:DAYLIGHT
BEGIN:STANDARD
TZOFFSETFROM:-0500
TZOFFSETTO:-0600
TZNAME:CST
DTSTART:20271107T070000
END:STANDARD
END:VTIMEZONE
BEGIN:VEVENT
DTSTART;TZID=America/Chicago:20260205T180000
DTEND;TZID=America/Chicago:20260205T193000
DTSTAMP:20260425T132840
CREATED:20260127T014325Z
LAST-MODIFIED:20260203T165517Z
UID:3204-1770314400-1770319800@nvoklahoma.org
SUMMARY:Improv in the Dark!
DESCRIPTION:What happens when the lights go out—and creativity turns up? \n\n\n\nImprov in the Dark is a four-week series beginning Feb. 5 in the Classen Music Lab where we take visual cues off the table and focus on what really matters: listening\, imagination\, and connection. In a fully darkened space\, everyone’s on the same level as we explore improv through voice\, timing\, and collaboration—no scripts\, no pressure\, just play.You’ll experiment with characters\, emotions\, and storytelling\, build confidence in communication\, and have a lot of fun along the way. No improv experience needed—just curiosity and a willingness to jump in. \n\n\n\n\n\n\n\nThursday\, Feb. 5\, 12\, 19\, 26 | 6:00–7:30pm | Classen Music Lab \n\n\n\nLet us know you are coming by filling out this short form. \n\n\n\nRSVP
URL:https://nvoklahoma.org/event/improv-in-the-dark/
ATTACH;FMTTYPE=image/jpeg:https://nvoklahoma.org/wp-content/uploads/2026/01/Improv-event-page.jpg
END:VEVENT
BEGIN:VEVENT
DTSTART;TZID=America/Chicago:20260210T150000
DTEND;TZID=America/Chicago:20260210T160000
DTSTAMP:20260425T132840
CREATED:20250828T200207Z
LAST-MODIFIED:20250828T200208Z
UID:2794-1770735600-1770739200@nvoklahoma.org
SUMMARY:Community Support Group - OKC Classen Clinic
DESCRIPTION:Community Support Group – OKC Classen Clinic \n\n\n\nOur Adult Support Group meets on the second Tuesday of each month (September – May) from 3:00 – 4:00 pm. Located in the Community Room of the OKC Center for Low Vision and Blindness on Classen. \n\n\n\nRSVP to Leigh Tomlin at LTomlin@newviewoklahoma.org
URL:https://nvoklahoma.org/event/community-support-group-okc-classen-clinic-5/
ATTACH;FMTTYPE=image/png:https://nvoklahoma.org/wp-content/uploads/2025/08/Adult-Support-Group-768x644-1.png
END:VEVENT
BEGIN:VEVENT
DTSTART;TZID=America/Chicago:20260210T170000
DTEND;TZID=America/Chicago:20260210T190000
DTSTAMP:20260425T132840
CREATED:20260127T023519Z
LAST-MODIFIED:20260127T030115Z
UID:3212-1770742800-1770750000@nvoklahoma.org
SUMMARY:Dance Class
DESCRIPTION:NewView Oklahoma and Oklahoma Dance Foundation Present New Dance Class Series  \n\n\n\nAll are welcome to join us for fun and community building through dance. No dance experience necessary! \n\n\n\nEvery Tuesday from 5-7pmStarting February 10th Through May 5th 2026 \n\n\n\nEach 2-hour dance session includes:Stretching\, Dance technique\, Line dancing\, Latin dancing\, country dancing\, ballroom \n\n\n\nClasses will be held in the community room atNewView Oklahoma 4301 N. Classen Blvd. OKC 73118
URL:https://nvoklahoma.org/event/dance-class/
ATTACH;FMTTYPE=image/jpeg:https://nvoklahoma.org/wp-content/uploads/2026/01/Dance-Class-event-feb-4-may-5.jpg
END:VEVENT
BEGIN:VEVENT
DTSTART;TZID=America/Chicago:20260212T180000
DTEND;TZID=America/Chicago:20260212T193000
DTSTAMP:20260425T132840
CREATED:20260127T021717Z
LAST-MODIFIED:20260203T165701Z
UID:3208-1770919200-1770924600@nvoklahoma.org
SUMMARY:Improv in the Dark!
DESCRIPTION:What happens when the lights go out—and creativity turns up? \n\n\n\nImprov in the Dark is a four-week series beginning Feb. 5 in the Classen Music Lab where we take visual cues off the table and focus on what really matters: listening\, imagination\, and connection. In a fully darkened space\, everyone’s on the same level as we explore improv through voice\, timing\, and collaboration—no scripts\, no pressure\, just play.You’ll experiment with characters\, emotions\, and storytelling\, build confidence in communication\, and have a lot of fun along the way. No improv experience needed—just curiosity and a willingness to jump in. \n\n\n\n\n\n\n\nThursday\, Feb. 5\, 12\, 19\, 26 | 6:00–7:30pm | Classen Music Lab \n\n\n\nLet us know you are coming by filling out this short form. \n\n\n\nRSVP
URL:https://nvoklahoma.org/event/improv-in-the-dark-2/
ATTACH;FMTTYPE=image/jpeg:https://nvoklahoma.org/wp-content/uploads/2026/01/Improv-event-page.jpg
END:VEVENT
BEGIN:VEVENT
DTSTART;TZID=America/Chicago:20260217T170000
DTEND;TZID=America/Chicago:20260217T190000
DTSTAMP:20260425T132840
CREATED:20260127T024641Z
LAST-MODIFIED:20260127T024642Z
UID:3214-1771347600-1771354800@nvoklahoma.org
SUMMARY:Dance Class
DESCRIPTION:NewView Oklahoma and Oklahoma Dance Foundation Present New Dance Class Series  \n\n\n\nAll are welcome to join us for fun and community building through dance. No dance experience necessary! \n\n\n\nEvery Tuesday from 5-7pmStarting February 10th Through May 5th 2026 \n\n\n\nEach 2-hour dance session includes:Stretching\, Dance technique\, Line dancing\, Latin dancing\, country dancing\, ballroom \n\n\n\nClasses will be held in the community room atNewView Oklahoma 4301 N. Classen Blvd. OKC 73118
URL:https://nvoklahoma.org/event/dance-class-2/
ATTACH;FMTTYPE=image/jpeg:https://nvoklahoma.org/wp-content/uploads/2026/01/Dance-Class-event-feb-4-may-5.jpg
END:VEVENT
BEGIN:VEVENT
DTSTART;TZID=America/Chicago:20260218T113000
DTEND;TZID=America/Chicago:20260218T130000
DTSTAMP:20260425T132840
CREATED:20250828T211500Z
LAST-MODIFIED:20250828T211501Z
UID:2802-1771414200-1771419600@nvoklahoma.org
SUMMARY:VITAL-OKC
DESCRIPTION:Join us for a hot lunch and support! VITAL gives social support to blind and low vision Veterans and their families. The group provides opportunities to enjoy social events\, share stories\, and be active members of the community. Members also gain access to helpful resources. \n\n\n\nVITAL is free for veterans and their families to attend. \n\n\n\n\n\n\n\nEvery 3rd Wednesday at the Classen Clinic – 4301 N. Classen Blvd.\, OKC\, OK 73118 \n\n\n\nRSVP to Leigh Tomlin at LTomlin@newviewoklahoma.org
URL:https://nvoklahoma.org/event/vital-okc-8/
CATEGORIES:Community Groups
ATTACH;FMTTYPE=image/jpeg:https://nvoklahoma.org/wp-content/uploads/2025/01/36EC076B-1506-4E06-9E9E-0CD88CA0CC4E-1024x683-1.jpeg
END:VEVENT
BEGIN:VEVENT
DTSTART;TZID=America/Chicago:20260219T180000
DTEND;TZID=America/Chicago:20260219T193000
DTSTAMP:20260425T132840
CREATED:20260127T022348Z
LAST-MODIFIED:20260203T165803Z
UID:3209-1771524000-1771529400@nvoklahoma.org
SUMMARY:Improv in the Dark!
DESCRIPTION:What happens when the lights go out—and creativity turns up? \n\n\n\nImprov in the Dark is a four-week series beginning Feb. 5 in the Classen Music Lab where we take visual cues off the table and focus on what really matters: listening\, imagination\, and connection. In a fully darkened space\, everyone’s on the same level as we explore improv through voice\, timing\, and collaboration—no scripts\, no pressure\, just play.You’ll experiment with characters\, emotions\, and storytelling\, build confidence in communication\, and have a lot of fun along the way. No improv experience needed—just curiosity and a willingness to jump in. \n\n\n\n\n\n\n\nThursday\, Feb. 5\, 12\, 19\, 26 | 6:00–7:30pm | Classen Music Lab \n\n\n\nLet us know you are coming by filling out this short form. \n\n\n\nRSVP
URL:https://nvoklahoma.org/event/improv-in-the-dark-3/
ATTACH;FMTTYPE=image/jpeg:https://nvoklahoma.org/wp-content/uploads/2026/01/Improv-event-page.jpg
END:VEVENT
BEGIN:VEVENT
DTSTART;TZID=America/Chicago:20260224T170000
DTEND;TZID=America/Chicago:20260224T190000
DTSTAMP:20260425T132840
CREATED:20260127T024700Z
LAST-MODIFIED:20260127T024701Z
UID:3216-1771952400-1771959600@nvoklahoma.org
SUMMARY:Dance Class
DESCRIPTION:NewView Oklahoma and Oklahoma Dance Foundation Present New Dance Class Series  \n\n\n\nAll are welcome to join us for fun and community building through dance. No dance experience necessary! \n\n\n\nEvery Tuesday from 5-7pmStarting February 10th Through May 5th 2026 \n\n\n\nEach 2-hour dance session includes:Stretching\, Dance technique\, Line dancing\, Latin dancing\, country dancing\, ballroom \n\n\n\nClasses will be held in the community room atNewView Oklahoma 4301 N. Classen Blvd. OKC 73118
URL:https://nvoklahoma.org/event/dance-class-3/
ATTACH;FMTTYPE=image/jpeg:https://nvoklahoma.org/wp-content/uploads/2026/01/Dance-Class-event-feb-4-may-5.jpg
END:VEVENT
BEGIN:VEVENT
DTSTART;TZID=America/Chicago:20260226T180000
DTEND;TZID=America/Chicago:20260226T193000
DTSTAMP:20260425T132840
CREATED:20260127T022419Z
LAST-MODIFIED:20260203T164936Z
UID:3211-1772128800-1772134200@nvoklahoma.org
SUMMARY:Improv in the Dark!
DESCRIPTION:What happens when the lights go out—and creativity turns up? \n\n\n\nImprov in the Dark is a four-week series beginning Feb. 5 in the Classen Music Lab where we take visual cues off the table and focus on what really matters: listening\, imagination\, and connection. In a fully darkened space\, everyone’s on the same level as we explore improv through voice\, timing\, and collaboration—no scripts\, no pressure\, just play.You’ll experiment with characters\, emotions\, and storytelling\, build confidence in communication\, and have a lot of fun along the way. No improv experience needed—just curiosity and a willingness to jump in. \n\n\n\n\n\n\n\nThursday\, Feb. 5\, 12\, 19\, 26 | 6:00–7:30pm | Classen Music Lab \n\n\n\n\n\n\n\nPlease fill out this quick form to let us know you will be joining us! \n\n\n\n\nRSVP
URL:https://nvoklahoma.org/event/improv-in-the-dark-4/
ATTACH;FMTTYPE=image/jpeg:https://nvoklahoma.org/wp-content/uploads/2026/01/Improv-event-page.jpg
END:VEVENT
END:VCALENDAR