BEGIN:VCALENDAR
VERSION:2.0
PRODID:-//NewView Oklahoma - ECPv6.15.20//NONSGML v1.0//EN
CALSCALE:GREGORIAN
METHOD:PUBLISH
X-WR-CALNAME:NewView Oklahoma
X-ORIGINAL-URL:https://nvoklahoma.org
X-WR-CALDESC:Events for NewView Oklahoma
REFRESH-INTERVAL;VALUE=DURATION:PT1H
X-Robots-Tag:noindex
X-PUBLISHED-TTL:PT1H
BEGIN:VTIMEZONE
TZID:America/Chicago
BEGIN:DAYLIGHT
TZOFFSETFROM:-0600
TZOFFSETTO:-0500
TZNAME:CDT
DTSTART:20260308T080000
END:DAYLIGHT
BEGIN:STANDARD
TZOFFSETFROM:-0500
TZOFFSETTO:-0600
TZNAME:CST
DTSTART:20261101T070000
END:STANDARD
BEGIN:DAYLIGHT
TZOFFSETFROM:-0600
TZOFFSETTO:-0500
TZNAME:CDT
DTSTART:20270314T080000
END:DAYLIGHT
BEGIN:STANDARD
TZOFFSETFROM:-0500
TZOFFSETTO:-0600
TZNAME:CST
DTSTART:20271107T070000
END:STANDARD
BEGIN:DAYLIGHT
TZOFFSETFROM:-0600
TZOFFSETTO:-0500
TZNAME:CDT
DTSTART:20280312T080000
END:DAYLIGHT
BEGIN:STANDARD
TZOFFSETFROM:-0500
TZOFFSETTO:-0600
TZNAME:CST
DTSTART:20281105T070000
END:STANDARD
END:VTIMEZONE
BEGIN:VEVENT
DTSTART;TZID=America/Chicago:20270120T113000
DTEND;TZID=America/Chicago:20270120T130000
DTSTAMP:20260425T195846
CREATED:20260422T154429Z
LAST-MODIFIED:20260422T154430Z
UID:3477-1800444600-1800450000@nvoklahoma.org
SUMMARY:VITAL-OKC
DESCRIPTION:Join us for a hot lunch and support! VITAL gives social support to blind and low vision Veterans and their families. The group provides opportunities to enjoy social events\, share stories\, and be active members of the community. Members also gain access to helpful resources. \n\n\n\nVITAL is free for veterans and their families to attend. \n\n\n\n\n\n\n\nEvery 3rd Wednesday at the Classen Clinic – 4301 N. Classen Blvd.\, OKC\, OK 73118 \n\n\n\nRSVP to Leigh Tomlin at LTomlin@newviewoklahoma.org
URL:https://nvoklahoma.org/event/vital-okc-17/
CATEGORIES:Community Groups
ATTACH;FMTTYPE=image/jpeg:https://nvoklahoma.org/wp-content/uploads/2025/01/36EC076B-1506-4E06-9E9E-0CD88CA0CC4E-1024x683-1.jpeg
END:VEVENT
BEGIN:VEVENT
DTSTART;TZID=America/Chicago:20270209T150000
DTEND;TZID=America/Chicago:20270209T160000
DTSTAMP:20260425T195846
CREATED:20260422T152924Z
LAST-MODIFIED:20260422T152924Z
UID:3468-1802185200-1802188800@nvoklahoma.org
SUMMARY:Community Support Group - OKC Classen Clinic
DESCRIPTION:Community Support Group – OKC Classen Clinic \n\n\n\nOur Adult Support Group meets on the second Tuesday of each month (September – May) from 3:00 – 4:00 pm. Located in the Community Room of the OKC Center for Low Vision and Blindness on Classen. \n\n\n\nRSVP to Leigh Tomlin at LTomlin@newviewoklahoma.org
URL:https://nvoklahoma.org/event/community-support-group-okc-classen-clinic-14/
ATTACH;FMTTYPE=image/png:https://nvoklahoma.org/wp-content/uploads/2025/08/Adult-Support-Group-768x644-1.png
END:VEVENT
BEGIN:VEVENT
DTSTART;TZID=America/Chicago:20270217T113000
DTEND;TZID=America/Chicago:20270217T130000
DTSTAMP:20260425T195846
CREATED:20260422T154338Z
LAST-MODIFIED:20260422T154338Z
UID:3476-1802863800-1802869200@nvoklahoma.org
SUMMARY:VITAL-OKC
DESCRIPTION:Join us for a hot lunch and support! VITAL gives social support to blind and low vision Veterans and their families. The group provides opportunities to enjoy social events\, share stories\, and be active members of the community. Members also gain access to helpful resources. \n\n\n\nVITAL is free for veterans and their families to attend. \n\n\n\n\n\n\n\nEvery 3rd Wednesday at the Classen Clinic – 4301 N. Classen Blvd.\, OKC\, OK 73118 \n\n\n\nRSVP to Leigh Tomlin at LTomlin@newviewoklahoma.org
URL:https://nvoklahoma.org/event/vital-okc-16/
CATEGORIES:Community Groups
ATTACH;FMTTYPE=image/jpeg:https://nvoklahoma.org/wp-content/uploads/2025/01/36EC076B-1506-4E06-9E9E-0CD88CA0CC4E-1024x683-1.jpeg
END:VEVENT
BEGIN:VEVENT
DTSTART;TZID=America/Chicago:20270309T150000
DTEND;TZID=America/Chicago:20270309T160000
DTSTAMP:20260425T195846
CREATED:20260422T152952Z
LAST-MODIFIED:20260422T152952Z
UID:3469-1804604400-1804608000@nvoklahoma.org
SUMMARY:Community Support Group - OKC Classen Clinic
DESCRIPTION:Community Support Group – OKC Classen Clinic \n\n\n\nOur Adult Support Group meets on the second Tuesday of each month (September – May) from 3:00 – 4:00 pm. Located in the Community Room of the OKC Center for Low Vision and Blindness on Classen. \n\n\n\nRSVP to Leigh Tomlin at LTomlin@newviewoklahoma.org
URL:https://nvoklahoma.org/event/community-support-group-okc-classen-clinic-15/
ATTACH;FMTTYPE=image/png:https://nvoklahoma.org/wp-content/uploads/2025/08/Adult-Support-Group-768x644-1.png
END:VEVENT
BEGIN:VEVENT
DTSTART;TZID=America/Chicago:20270317T113000
DTEND;TZID=America/Chicago:20270317T130000
DTSTAMP:20260425T195846
CREATED:20260422T154621Z
LAST-MODIFIED:20260422T154621Z
UID:3478-1805283000-1805288400@nvoklahoma.org
SUMMARY:VITAL-OKC
DESCRIPTION:Join us for a hot lunch and support! VITAL gives social support to blind and low vision Veterans and their families. The group provides opportunities to enjoy social events\, share stories\, and be active members of the community. Members also gain access to helpful resources. \n\n\n\nVITAL is free for veterans and their families to attend. \n\n\n\n\n\n\n\nEvery 3rd Wednesday at the Classen Clinic – 4301 N. Classen Blvd.\, OKC\, OK 73118 \n\n\n\nRSVP to Leigh Tomlin at LTomlin@newviewoklahoma.org
URL:https://nvoklahoma.org/event/vital-okc-18/
CATEGORIES:Community Groups
ATTACH;FMTTYPE=image/jpeg:https://nvoklahoma.org/wp-content/uploads/2025/01/36EC076B-1506-4E06-9E9E-0CD88CA0CC4E-1024x683-1.jpeg
END:VEVENT
BEGIN:VEVENT
DTSTART;TZID=America/Chicago:20270413T150000
DTEND;TZID=America/Chicago:20270413T160000
DTSTAMP:20260425T195846
CREATED:20260422T153018Z
LAST-MODIFIED:20260422T153018Z
UID:3470-1807628400-1807632000@nvoklahoma.org
SUMMARY:Community Support Group - OKC Classen Clinic
DESCRIPTION:Community Support Group – OKC Classen Clinic \n\n\n\nOur Adult Support Group meets on the second Tuesday of each month (September – May) from 3:00 – 4:00 pm. Located in the Community Room of the OKC Center for Low Vision and Blindness on Classen. \n\n\n\nRSVP to Leigh Tomlin at LTomlin@newviewoklahoma.org
URL:https://nvoklahoma.org/event/community-support-group-okc-classen-clinic-16/
ATTACH;FMTTYPE=image/png:https://nvoklahoma.org/wp-content/uploads/2025/08/Adult-Support-Group-768x644-1.png
END:VEVENT
BEGIN:VEVENT
DTSTART;TZID=America/Chicago:20270421T113000
DTEND;TZID=America/Chicago:20270421T130000
DTSTAMP:20260425T195846
CREATED:20260422T154645Z
LAST-MODIFIED:20260422T154645Z
UID:3479-1808307000-1808312400@nvoklahoma.org
SUMMARY:VITAL-OKC
DESCRIPTION:Join us for a hot lunch and support! VITAL gives social support to blind and low vision Veterans and their families. The group provides opportunities to enjoy social events\, share stories\, and be active members of the community. Members also gain access to helpful resources. \n\n\n\nVITAL is free for veterans and their families to attend. \n\n\n\n\n\n\n\nEvery 3rd Wednesday at the Classen Clinic – 4301 N. Classen Blvd.\, OKC\, OK 73118 \n\n\n\nRSVP to Leigh Tomlin at LTomlin@newviewoklahoma.org
URL:https://nvoklahoma.org/event/vital-okc-19/
CATEGORIES:Community Groups
ATTACH;FMTTYPE=image/jpeg:https://nvoklahoma.org/wp-content/uploads/2025/01/36EC076B-1506-4E06-9E9E-0CD88CA0CC4E-1024x683-1.jpeg
END:VEVENT
BEGIN:VEVENT
DTSTART;TZID=America/Chicago:20270511T150000
DTEND;TZID=America/Chicago:20270511T160000
DTSTAMP:20260425T195846
CREATED:20260422T153055Z
LAST-MODIFIED:20260422T153055Z
UID:3471-1810047600-1810051200@nvoklahoma.org
SUMMARY:Community Support Group - OKC Classen Clinic
DESCRIPTION:Community Support Group – OKC Classen Clinic \n\n\n\nOur Adult Support Group meets on the second Tuesday of each month (September – May) from 3:00 – 4:00 pm. Located in the Community Room of the OKC Center for Low Vision and Blindness on Classen. \n\n\n\nRSVP to Leigh Tomlin at LTomlin@newviewoklahoma.org
URL:https://nvoklahoma.org/event/community-support-group-okc-classen-clinic-17/
ATTACH;FMTTYPE=image/png:https://nvoklahoma.org/wp-content/uploads/2025/08/Adult-Support-Group-768x644-1.png
END:VEVENT
BEGIN:VEVENT
DTSTART;TZID=America/Chicago:20270519T113000
DTEND;TZID=America/Chicago:20270519T130000
DTSTAMP:20260425T195846
CREATED:20260422T154709Z
LAST-MODIFIED:20260422T154710Z
UID:3480-1810726200-1810731600@nvoklahoma.org
SUMMARY:VITAL-OKC
DESCRIPTION:Join us for a hot lunch and support! VITAL gives social support to blind and low vision Veterans and their families. The group provides opportunities to enjoy social events\, share stories\, and be active members of the community. Members also gain access to helpful resources. \n\n\n\nVITAL is free for veterans and their families to attend. \n\n\n\n\n\n\n\nEvery 3rd Wednesday at the Classen Clinic – 4301 N. Classen Blvd.\, OKC\, OK 73118 \n\n\n\nRSVP to Leigh Tomlin at LTomlin@newviewoklahoma.org
URL:https://nvoklahoma.org/event/vital-okc-20/
CATEGORIES:Community Groups
ATTACH;FMTTYPE=image/jpeg:https://nvoklahoma.org/wp-content/uploads/2025/01/36EC076B-1506-4E06-9E9E-0CD88CA0CC4E-1024x683-1.jpeg
END:VEVENT
END:VCALENDAR